View In:
ArcGIS JavaScript
ArcGIS Online Map Viewer
ArcGIS Earth
ArcMap
View Footprint In:
ArcGIS Online Map Viewer
Service Description: Grundkarten/Fliessrichtung_vMAX_03
Name: Grundkarten/Fliessrichtung_vMAX_03
Description:
Single Fused Map Cache: false
Extent:
XMin: 409000
YMin: 5692999
XMax: 423500.00000000006
YMax: 5703999
Spatial Reference: 25832
(25832)
Initial Extent:
XMin: 409000
YMin: 5692999
XMax: 423500.00000000006
YMax: 5703999
Spatial Reference: 25832
(25832)
Full Extent:
XMin: 409000
YMin: 5692999
XMax: 423500.00000000006
YMax: 5703999
Spatial Reference: 25832
(25832)
Pixel Size X: 1.000000000000004
Pixel Size Y: 1.0
Band Count: 2
Pixel Type: F32
RasterFunction Infos: {"rasterFunctionInfos": [{
"name": "None",
"description": "",
"help": ""
}]}
Mensuration Capabilities: Basic
Has Histograms: true
Has Colormap: false
Has Multi Dimensions : false
Rendering Rule:
Min Scale: 0
Max Scale: 0
Copyright Text:
Service Data Type: esriImageServiceDataTypeVector-MagDir
Min Values: 1.35484219399018E-8, -90.00015258789062
Max Values: 8.308152198791504, 270.0001525878906
Mean Values: 0.19602868977865168, 72.28543418597046
Standard Deviation Values: 0.33108252035385244, 104.51635018152506
Object ID Field:
Fields:
None
Default Mosaic Method: Center
Allowed Mosaic Methods:
SortField:
SortValue: null
Mosaic Operator: First
Default Compression Quality: 75
Default Resampling Method: Bilinear
Max Record Count: null
Max Image Height: 4100
Max Image Width: 15000
Max Download Image Count: null
Max Mosaic Image Count: null
Allow Raster Function: true
Allow Copy: true
Allow Analysis: true
Allow Compute TiePoints: false
Supports Statistics: false
Supports Advanced Queries: false
Use StandardizedQueries: true
Raster Type Infos:
Name: Raster Dataset
Description: Unterstützt alle ArcGIS-Raster-Datasets
Help:
Has Raster Attribute Table: false
Edit Fields Info: null
Ownership Based AccessControl For Rasters: null
Child Resources:
Info
Histograms
Statistics
Key Properties
Legend
Raster Function Infos
Supported Operations:
Export Image
Identify
Measure
Compute Histograms
Compute Statistics Histograms
Get Samples
Compute Class Statistics
Query Boundary
Compute Pixel Location
Compute Angles
Validate
Project