{
 "currentVersion": 10.91,
 "serviceDescription": "Grundkarten/Fliessrichtung_vMAX_03",
 "name": "Grundkarten/Fliessrichtung_vMAX_03",
 "description": "",
 "extent": {
  "xmin": 409000,
  "ymin": 5692999,
  "xmax": 423500.00000000006,
  "ymax": 5703999,
  "spatialReference": {
   "wkid": 25832,
   "latestWkid": 25832
  }
 },
 "initialExtent": {
  "xmin": 409000,
  "ymin": 5692999,
  "xmax": 423500.00000000006,
  "ymax": 5703999,
  "spatialReference": {
   "wkid": 25832,
   "latestWkid": 25832
  }
 },
 "fullExtent": {
  "xmin": 409000,
  "ymin": 5692999,
  "xmax": 423500.00000000006,
  "ymax": 5703999,
  "spatialReference": {
   "wkid": 25832,
   "latestWkid": 25832
  }
 },
 "hasMultidimensions": false,
 "pixelSizeX": 1.000000000000004,
 "pixelSizeY": 1,
 "datasetFormat": "FGDBR",
 "uncompressedSize": 1276000000,
 "blockWidth": 128,
 "blockHeight": 128,
 "compressionType": "NONE",
 "bandNames": [
  "Band_1",
  "Band_2"
 ],
 "allowCopy": true,
 "allowAnalysis": true,
 "bandCount": 2,
 "pixelType": "F32",
 "minPixelSize": 0,
 "maxPixelSize": 0,
 "copyrightText": "",
 "serviceDataType": "esriImageServiceDataTypeVector-MagDir",
 "serviceSourceType": "esriImageServiceSourceTypeDataset",
 "minValues": [
  1.35484219399018E-8,
  -90.00015258789062
 ],
 "maxValues": [
  8.308152198791504,
  270.0001525878906
 ],
 "meanValues": [
  0.19602868977865168,
  72.28543418597046
 ],
 "stdvValues": [
  0.33108252035385244,
  104.51635018152506
 ],
 "objectIdField": "",
 "fields": [],
 "capabilities": "Image,Metadata,Mensuration",
 "defaultMosaicMethod": "Center",
 "allowedMosaicMethods": "",
 "sortField": "",
 "sortValue": null,
 "sortAscending": true,
 "mosaicOperator": "First",
 "defaultCompressionQuality": 75,
 "defaultResamplingMethod": "Bilinear",
 "maxImageHeight": 4100,
 "maxImageWidth": 15000,
 "allowRasterFunction": true,
 "rasterFunctionInfos": [
  {
   "name": "None",
   "description": "",
   "help": ""
  }
 ],
 "rasterTypeInfos": [
  {
   "name": "Raster Dataset",
   "description": "Unterstützt alle ArcGIS-Raster-Datasets",
   "help": ""
  }
 ],
 "mensurationCapabilities": "Basic",
 "hasHistograms": true,
 "hasColormap": false,
 "hasRasterAttributeTable": false,
 "minScale": 0,
 "maxScale": 0,
 "exportTilesAllowed": false,
 "supportsStatistics": false,
 "supportsAdvancedQueries": false,
 "editFieldsInfo": null,
 "ownershipBasedAccessControlForRasters": null,
 "allowComputeTiePoints": false,
 "useStandardizedQueries": true,
 "advancedQueryCapabilities": {
  "useStandardizedQueries": true,
  "supportsStatistics": false,
  "supportsOrderBy": false,
  "supportsDistinct": false,
  "supportsPagination": false
 },
 "spatialReference": {
  "wkid": 25832,
  "latestWkid": 25832
 }
}
