View In:
ArcGIS JavaScript
ArcGIS Online Map Viewer
ArcGIS Earth
ArcMap
ArcGIS Pro
View Footprint In:
ArcGIS Online Map Viewer
Service Description:
Map Name: ALKIS
Legend
All Layers and Tables
Dynamic Legend
Dynamic All Layers
Layers:
Description:
Service Item Id: 44a3933b4ebf49c1a1acb792ef5c8e1f
Copyright Text:
Spatial Reference:
25832
(25832)
Single Fused Map Cache: true
Tile Info:
- Height: 256
- Width: 256
- DPI: 96
-
Levels of Detail: 13
-
Level ID: 12
[ Start Tile, End Tile ]
- Resolution: 0.008074458694490307
- Scale: 30.517578125
- Format: PNG
- Compression Quality: 0.0
- Origin: X: -5120900.0
Y: 9998100.0
- Spatial Reference: 25832
(25832)
Storage Info:
- Storage Format: esriMapCacheStorageModeCompactV2
- Packet Size: 128
Initial Extent:
XMin: 411607.69281489815
YMin: 5692580.965662669
XMax: 423770.5257302842
YMax: 5704056.249902107
Spatial Reference: 25832
(25832)
Full Extent:
XMin: 403930.03780000005
YMin: 5692555.171399999
XMax: 423233.2599999998
YMax: 5703669.743000001
Spatial Reference: 25832
(25832)
Units: esriMeters
Supported Image Format Types: PNG32,PNG24,PNG,JPG,DIB,TIFF,EMF,PS,PDF,GIF,SVG,SVGZ,BMP
Document Info:
Title: Map
Author:
Comments:
Subject:
Category:
Keywords: Menden,ALKIS
AntialiasingMode: Fast
TextAntialiasingMode: Force
Supports Dynamic Layers: true
MaxRecordCount: 10000
MaxImageHeight: 4096
MaxImageWidth: 4096
Supported Query Formats: JSON, geoJSON, PBF
Supports Query Data Elements: true
Min Scale: 125000
Max Scale: 61.03515625
Min LOD: 0
Max LOD: 11
Supports Datum Transformation: true
Child Resources:
Info
Dynamic Layer
Supported Operations:
Export Map
Identify
QueryLegends
QueryDomains
Find
Return Updates