{
 "currentVersion": 10.91,
 "cimVersion": "2.9.0",
 "serviceDescription": "",
 "mapName": "ALKIS",
 "description": "",
 "copyrightText": "",
 "supportsDynamicLayers": true,
 "layers": [
  {
   "id": 7,
   "name": "Beschriftungen",
   "parentLayerId": -1,
   "defaultVisibility": true,
   "subLayerIds": [
    0,
    8,
    15
   ],
   "minScale": 0,
   "maxScale": 0,
   "type": "Group Layer",
   "supportsDynamicLegends": false
  },
  {
   "id": 0,
   "name": "Hausnummern",
   "parentLayerId": 7,
   "defaultVisibility": true,
   "subLayerIds": [
    1,
    3,
    5
   ],
   "minScale": 0,
   "maxScale": 0,
   "type": "Group Layer",
   "supportsDynamicLegends": false
  },
  {
   "id": 1,
   "name": "BESCHRIFTUNG_31000_500",
   "parentLayerId": 0,
   "defaultVisibility": true,
   "subLayerIds": [
    2
   ],
   "minScale": 500,
   "maxScale": 0,
   "type": "Annotation Layer",
   "geometryType": "esriGeometryPolygon",
   "supportsDynamicLegends": false
  },
  {
   "id": 2,
   "name": "Beschriftung",
   "parentLayerId": 1,
   "defaultVisibility": true,
   "subLayerIds": null,
   "minScale": 0,
   "maxScale": 0,
   "supportsDynamicLegends": false
  },
  {
   "id": 3,
   "name": "BESCHRIFTUNG_31000",
   "parentLayerId": 0,
   "defaultVisibility": true,
   "subLayerIds": [
    4
   ],
   "minScale": 2000,
   "maxScale": 500,
   "type": "Annotation Layer",
   "geometryType": "esriGeometryPolygon",
   "supportsDynamicLegends": false
  },
  {
   "id": 4,
   "name": "Beschriftung",
   "parentLayerId": 3,
   "defaultVisibility": true,
   "subLayerIds": null,
   "minScale": 0,
   "maxScale": 0,
   "supportsDynamicLegends": false
  },
  {
   "id": 5,
   "name": "BESCHRIFTUNG_31000_2000",
   "parentLayerId": 0,
   "defaultVisibility": true,
   "subLayerIds": [
    6
   ],
   "minScale": 2500,
   "maxScale": 2000,
   "type": "Annotation Layer",
   "geometryType": "esriGeometryPolygon",
   "supportsDynamicLegends": false
  },
  {
   "id": 6,
   "name": "Beschriftung",
   "parentLayerId": 5,
   "defaultVisibility": true,
   "subLayerIds": null,
   "minScale": 0,
   "maxScale": 0,
   "supportsDynamicLegends": false
  },
  {
   "id": 8,
   "name": "Straßennamen",
   "parentLayerId": 7,
   "defaultVisibility": true,
   "subLayerIds": [
    9,
    11,
    13
   ],
   "minScale": 0,
   "maxScale": 0,
   "type": "Group Layer",
   "supportsDynamicLegends": false
  },
  {
   "id": 9,
   "name": "BESCHRIFTUNG_42000_500",
   "parentLayerId": 8,
   "defaultVisibility": true,
   "subLayerIds": [
    10
   ],
   "minScale": 500,
   "maxScale": 0,
   "type": "Annotation Layer",
   "geometryType": "esriGeometryPolygon",
   "supportsDynamicLegends": false
  },
  {
   "id": 10,
   "name": "Beschriftung",
   "parentLayerId": 9,
   "defaultVisibility": true,
   "subLayerIds": null,
   "minScale": 0,
   "maxScale": 0,
   "supportsDynamicLegends": false
  },
  {
   "id": 11,
   "name": "BESCHRIFTUNG_42000",
   "parentLayerId": 8,
   "defaultVisibility": true,
   "subLayerIds": [
    12
   ],
   "minScale": 2000,
   "maxScale": 500,
   "type": "Annotation Layer",
   "geometryType": "esriGeometryPolygon",
   "supportsDynamicLegends": false
  },
  {
   "id": 12,
   "name": "Standard",
   "parentLayerId": 11,
   "defaultVisibility": true,
   "subLayerIds": null,
   "minScale": 0,
   "maxScale": 0,
   "supportsDynamicLegends": false
  },
  {
   "id": 13,
   "name": "BESCHRIFTUNG_42000_2000",
   "parentLayerId": 8,
   "defaultVisibility": true,
   "subLayerIds": [
    14
   ],
   "minScale": 5000,
   "maxScale": 2000,
   "type": "Annotation Layer",
   "geometryType": "esriGeometryPolygon",
   "supportsDynamicLegends": false
  },
  {
   "id": 14,
   "name": "Beschriftung",
   "parentLayerId": 13,
   "defaultVisibility": true,
   "subLayerIds": null,
   "minScale": 0,
   "maxScale": 0,
   "supportsDynamicLegends": false
  },
  {
   "id": 15,
   "name": "Flurstücke",
   "parentLayerId": 7,
   "defaultVisibility": true,
   "subLayerIds": [
    16,
    18,
    19,
    21,
    22,
    23
   ],
   "minScale": 0,
   "maxScale": 0,
   "type": "Group Layer",
   "supportsDynamicLegends": false
  },
  {
   "id": 16,
   "name": "BESCHRIFTUNG_11000_500",
   "parentLayerId": 15,
   "defaultVisibility": true,
   "subLayerIds": [
    17
   ],
   "minScale": 500,
   "maxScale": 0,
   "type": "Annotation Layer",
   "geometryType": "esriGeometryPolygon",
   "supportsDynamicLegends": false
  },
  {
   "id": 17,
   "name": "Standard",
   "parentLayerId": 16,
   "defaultVisibility": true,
   "subLayerIds": null,
   "minScale": 0,
   "maxScale": 0,
   "supportsDynamicLegends": false
  },
  {
   "id": 18,
   "name": "BESCHRIFTLINIEN_11000_500",
   "parentLayerId": 15,
   "defaultVisibility": true,
   "subLayerIds": null,
   "minScale": 500,
   "maxScale": 0,
   "type": "Feature Layer",
   "geometryType": "esriGeometryPolyline",
   "supportsDynamicLegends": true
  },
  {
   "id": 19,
   "name": "BESCHRIFTUNG_11000",
   "parentLayerId": 15,
   "defaultVisibility": true,
   "subLayerIds": [
    20
   ],
   "minScale": 2000,
   "maxScale": 500,
   "type": "Annotation Layer",
   "geometryType": "esriGeometryPolygon",
   "supportsDynamicLegends": false
  },
  {
   "id": 20,
   "name": "Standard",
   "parentLayerId": 19,
   "defaultVisibility": true,
   "subLayerIds": null,
   "minScale": 0,
   "maxScale": 0,
   "supportsDynamicLegends": false
  },
  {
   "id": 21,
   "name": "BESCHRIFTLINIEN_11000",
   "parentLayerId": 15,
   "defaultVisibility": true,
   "subLayerIds": null,
   "minScale": 2000,
   "maxScale": 500,
   "type": "Feature Layer",
   "geometryType": "esriGeometryPolyline",
   "supportsDynamicLegends": true
  },
  {
   "id": 22,
   "name": "BESCHRIFTLINIEN_11000_2000",
   "parentLayerId": 15,
   "defaultVisibility": true,
   "subLayerIds": null,
   "minScale": 2500,
   "maxScale": 2000,
   "type": "Feature Layer",
   "geometryType": "esriGeometryPolyline",
   "supportsDynamicLegends": true
  },
  {
   "id": 23,
   "name": "BESCHRIFTUNG_11000_2000",
   "parentLayerId": 15,
   "defaultVisibility": true,
   "subLayerIds": [
    24
   ],
   "minScale": 2500,
   "maxScale": 2000,
   "type": "Annotation Layer",
   "geometryType": "esriGeometryPolygon",
   "supportsDynamicLegends": false
  },
  {
   "id": 24,
   "name": "Standard",
   "parentLayerId": 23,
   "defaultVisibility": true,
   "subLayerIds": null,
   "minScale": 0,
   "maxScale": 0,
   "supportsDynamicLegends": false
  },
  {
   "id": 25,
   "name": "Gebäude",
   "parentLayerId": -1,
   "defaultVisibility": true,
   "subLayerIds": null,
   "minScale": 10000,
   "maxScale": 0,
   "type": "Feature Layer",
   "geometryType": "esriGeometryPolygon",
   "supportsDynamicLegends": true
  },
  {
   "id": 26,
   "name": "Flurstücke",
   "parentLayerId": -1,
   "defaultVisibility": true,
   "subLayerIds": null,
   "minScale": 250000,
   "maxScale": 0,
   "type": "Feature Layer",
   "geometryType": "esriGeometryPolygon",
   "supportsDynamicLegends": true
  }
 ],
 "tables": [],
 "spatialReference": {
  "wkid": 25832,
  "latestWkid": 25832,
  "xyTolerance": 0.001,
  "zTolerance": 0.001,
  "mTolerance": 0.001,
  "falseX": -5120900,
  "falseY": -9998100,
  "xyUnits": 10000,
  "falseZ": -100000,
  "zUnits": 10000,
  "falseM": -100000,
  "mUnits": 10000
 },
 "singleFusedMapCache": true,
 "tileInfo": {
  "rows": 256,
  "cols": 256,
  "dpi": 96,
  "format": "PNG",
  "compressionQuality": 0,
  "origin": {
   "x": -5120900,
   "y": 9998100
  },
  "spatialReference": {
   "wkid": 25832,
   "latestWkid": 25832,
   "xyTolerance": 0.001,
   "zTolerance": 0.001,
   "mTolerance": 0.001,
   "falseX": -5120900,
   "falseY": -9998100,
   "xyUnits": 10000,
   "falseZ": -100000,
   "zUnits": 10000,
   "falseM": -100000,
   "mUnits": 10000
  },
  "lods": [
   {
    "level": 0,
    "resolution": 33.0729828126323,
    "scale": 125000
   },
   {
    "level": 1,
    "resolution": 16.53649140631615,
    "scale": 62500
   },
   {
    "level": 2,
    "resolution": 8.268245703158074,
    "scale": 31250
   },
   {
    "level": 3,
    "resolution": 4.134122851579037,
    "scale": 15625
   },
   {
    "level": 4,
    "resolution": 2.0670614257895186,
    "scale": 7812.5
   },
   {
    "level": 5,
    "resolution": 1.0335307128947593,
    "scale": 3906.25
   },
   {
    "level": 6,
    "resolution": 0.5167653564473796,
    "scale": 1953.125
   },
   {
    "level": 7,
    "resolution": 0.2583826782236898,
    "scale": 976.5625
   },
   {
    "level": 8,
    "resolution": 0.1291913391118449,
    "scale": 488.28125
   },
   {
    "level": 9,
    "resolution": 0.06459566955592246,
    "scale": 244.140625
   },
   {
    "level": 10,
    "resolution": 0.03229783477796123,
    "scale": 122.0703125
   },
   {
    "level": 11,
    "resolution": 0.016148917388980614,
    "scale": 61.03515625
   },
   {
    "level": 12,
    "resolution": 0.008074458694490307,
    "scale": 30.517578125
   }
  ]
 },
 "storageInfo": {
  "storageFormat": "esriMapCacheStorageModeCompactV2",
  "packetSize": 128
 },
 "initialExtent": {
  "xmin": 411607.69281489815,
  "ymin": 5692580.965662669,
  "xmax": 423770.5257302842,
  "ymax": 5704056.249902107,
  "spatialReference": {
   "wkid": 25832,
   "latestWkid": 25832,
   "xyTolerance": 0.001,
   "zTolerance": 0.001,
   "mTolerance": 0.001,
   "falseX": -5120900,
   "falseY": -9998100,
   "xyUnits": 10000,
   "falseZ": -100000,
   "zUnits": 10000,
   "falseM": -100000,
   "mUnits": 10000
  }
 },
 "fullExtent": {
  "xmin": 403930.03780000005,
  "ymin": 5692555.171399999,
  "xmax": 423233.2599999998,
  "ymax": 5703669.743000001,
  "spatialReference": {
   "wkid": 25832,
   "latestWkid": 25832,
   "xyTolerance": 0.001,
   "zTolerance": 0.001,
   "mTolerance": 0.001,
   "falseX": -5120900,
   "falseY": -9998100,
   "xyUnits": 10000,
   "falseZ": -100000,
   "zUnits": 10000,
   "falseM": -100000,
   "mUnits": 10000
  }
 },
 "datesInUnknownTimezone": false,
 "minScale": 125000,
 "maxScale": 61.03515625,
 "minLOD": 0,
 "maxLOD": 11,
 "units": "esriMeters",
 "supportedImageFormatTypes": "PNG32,PNG24,PNG,JPG,DIB,TIFF,EMF,PS,PDF,GIF,SVG,SVGZ,BMP",
 "documentInfo": {
  "Title": "Map",
  "Author": "",
  "Comments": "",
  "Subject": "",
  "Category": "",
  "AntialiasingMode": "Fast",
  "TextAntialiasingMode": "Force",
  "Version": "2.9.0",
  "Keywords": "Menden,ALKIS"
 },
 "capabilities": "Query,Map,Data",
 "supportedQueryFormats": "JSON, geoJSON, PBF",
 "exportTilesAllowed": false,
 "referenceScale": 0.0,
 "datumTransformations": [
  {
   "geoTransforms": [
    {
     "wkid": 1149,
     "latestWkid": 1149,
     "transformForward": false,
     "name": "ETRS_1989_To_WGS_1984"
    }
   ]
  },
  {
   "geoTransforms": [
    {
     "wkid": 1149,
     "latestWkid": 1149,
     "transformForward": true,
     "name": "ETRS_1989_To_WGS_1984"
    }
   ]
  },
  {
   "geoTransforms": [
    {
     "wkid": 1149,
     "latestWkid": 1149,
     "transformForward": false,
     "name": "ETRS_1989_To_WGS_1984"
    }
   ]
  },
  {
   "geoTransforms": [
    {
     "wkid": 1149,
     "latestWkid": 1149,
     "transformForward": true,
     "name": "ETRS_1989_To_WGS_1984"
    }
   ]
  }
 ],
 "supportsDatumTransformation": true,
 "archivingInfo": {
  "supportsHistoricMoment": false
 },
 "supportsClipping": true,
 "supportsSpatialFilter": true,
 "supportsTimeRelation": true,
 "supportsQueryDataElements": true,
 "maxRecordCount": 10000,
 "maxImageHeight": 4096,
 "maxImageWidth": 4096,
 "supportedExtensions": "",
 "serviceItemId": "44a3933b4ebf49c1a1acb792ef5c8e1f"
}
