View In:
ArcGIS JavaScript
ArcGIS Online Map Viewer
ArcGIS Earth
ArcMap
View Footprint In:
ArcGIS Online Map Viewer
Service Description: Grundkarten/TrueDOP2022
Name: Grundkarten/TrueDOP2022
Description:
Single Fused Map Cache: false
Extent:
XMin: 408063.0173705703
YMin: 5691794.7215799745
XMax: 425330.3052419963
YMax: 5704409.699702765
Spatial Reference: 25832
(25832)
Initial Extent:
XMin: 408063.0173705703
YMin: 5691794.7215799745
XMax: 425330.3052419963
YMax: 5704409.699702765
Spatial Reference: 25832
(25832)
Full Extent:
XMin: 408063.0173705703
YMin: 5691794.7215799745
XMax: 425330.3052419963
YMax: 5704409.699702765
Spatial Reference: 25832
(25832)
Pixel Size X: 3.1286986540000052
Pixel Size Y: 3.128714812199986
Band Count: 3
Pixel Type: U8
RasterFunction Infos: {"rasterFunctionInfos": [{
"name": "None",
"description": "",
"help": ""
}]}
Mensuration Capabilities: Basic
Has Histograms: true
Has Colormap: false
Has Multi Dimensions : false
Rendering Rule:
Min Scale: 0
Max Scale: 0
Copyright Text:
Service Data Type: esriImageServiceDataTypeRGB
Min Values: 1, 1, 1
Max Values: 255, 255, 255
Mean Values: 72.236059726071, 80.182770835294, 73.419819196253
Standard Deviation Values: 42.285152472682, 40.943980447331, 41.426916497579
Object ID Field:
Fields:
None
Default Mosaic Method: Center
Allowed Mosaic Methods:
SortField:
SortValue: null
Mosaic Operator: First
Default Compression Quality: 75
Default Resampling Method: Bilinear
Max Record Count: null
Max Image Height: 4100
Max Image Width: 15000
Max Download Image Count: null
Max Mosaic Image Count: null
Allow Raster Function: true
Allow Copy: true
Allow Analysis: true
Allow Compute TiePoints: false
Supports Statistics: false
Supports Advanced Queries: false
Use StandardizedQueries: true
Raster Type Infos:
Name: Raster Dataset
Description: Unterstützt alle ArcGIS-Raster-Datasets
Help:
Has Raster Attribute Table: false
Edit Fields Info: null
Ownership Based AccessControl For Rasters: null
Child Resources:
Info
Histograms
Statistics
Key Properties
Legend
Raster Function Infos
Supported Operations:
Export Image
Identify
Measure
Compute Histograms
Compute Statistics Histograms
Get Samples
Compute Class Statistics
Query Boundary
Compute Pixel Location
Compute Angles
Validate
Project