View In:
ArcGIS JavaScript
ArcGIS Online Map Viewer
ArcGIS Earth
ArcMap
ArcGIS Pro
View Footprint In:
ArcGIS Online Map Viewer
Service Description:
Map Name: Stadtkarte
Legend
All Layers and Tables
Dynamic Legend
Dynamic All Layers
Layers:
Description: Menden Stadtkarte generiert aus BasisDLM
Service Item Id: 305ab16b1c6b4cff9e8dc7b1f81eac87
Copyright Text: © Geobasis NRW
Spatial Reference:
25832
(25832)
Single Fused Map Cache: true
Tile Info:
- Height: 256
- Width: 256
- DPI: 96
-
Levels of Detail: 13
-
Level ID: 12
[ Start Tile, End Tile ]
- Resolution: 0.008074458694490307
- Scale: 30.517578125
- Format: PNG
- Compression Quality: 0.0
- Origin: X: -5120900.0
Y: 9998100.0
- Spatial Reference: 25832
(25832)
Storage Info:
- Storage Format: esriMapCacheStorageModeCompactV2
- Packet Size: 128
Initial Extent:
XMin: 412620.47422409395
YMin: 5699980.649814857
XMax: 413035.1994504222
YMax: 5700555.913838474
Spatial Reference: 25832
(25832)
Full Extent:
XMin: 280374.96800000034
YMin: 5577679.220000001
XMax: 531791.2000000002
YMax: 5820211.909
Spatial Reference: 25832
(25832)
Units: esriMeters
Supported Image Format Types: PNG32,PNG24,PNG,JPG,DIB,TIFF,EMF,PS,PDF,GIF,SVG,SVGZ,BMP
Document Info:
Title: Stadtkarte
Author:
Comments: Menden Stadtkarte generiert aus BasisDLM
Subject: Stadtkarte, BasisDLM, Menden
Category:
Keywords: BasisDLM,MapServer
AntialiasingMode: None
TextAntialiasingMode: Force
Supports Dynamic Layers: true
MaxRecordCount: 2000
MaxImageHeight: 4096
MaxImageWidth: 4096
Supported Query Formats: JSON, geoJSON, PBF
Supports Query Data Elements: true
Min Scale: 125000
Max Scale: 30.517578125
Min LOD: 0
Max LOD: 11
Supports Datum Transformation: true
Child Resources:
Info
Dynamic Layer
Supported Operations:
Export Map
Identify
QueryLegends
QueryDomains
Find
Return Updates